BEGIN:VCALENDAR
VERSION:2.0
PRODID:-//Wyong Town Centre - ECPv4.6.22.1//NONSGML v1.0//EN
CALSCALE:GREGORIAN
METHOD:PUBLISH
X-WR-CALNAME:Wyong Town Centre
X-ORIGINAL-URL:https://wyongtowncentre.org.au
X-WR-CALDESC:Events for Wyong Town Centre
BEGIN:VEVENT
DTSTART;TZID=UTC+0:20181201T173000
DTEND;TZID=UTC+0:20181201T210000
DTSTAMP:20190228T085614
CREATED:20181023T035511Z
LAST-MODIFIED:20181023T035511Z
UID:608-1543685400-1543698000@wyongtowncentre.org.au
SUMMARY:Wyong Community Bank © branch of Bendigo Bank Carols by Candlelight 2018
DESCRIPTION:2018  Wyong Community Bank © branch of Bendigo Bank \nCarols by Candlelight \nPerformer Expression of Interest \n  \nWyong Community Bank © branch of Bendigo Bank Carols is inviting singers and soloists to perform at its annual Carols by Candlelight event\, to be held on Saturday 1st December 2018. \nThe Carols are traditional community event held in Wyong each year. Attracting over 1\,300 people each year\, the Wyong Community Bank © branch of Bendigo Bank Carols by Candlelight will be held at new location in Alison Rd\, Wyong allowing the spectacular production to grow even further\, allowing a huge line up of entertainment\, a visit from Santa and of course\, its highly anticipated fireworks finale. \nWyong Community Bank © branch of Bendigo Bank invites performers to submit their Performers Expression of Interest application with supporting material by Sunday 11th November 2018. \nFor enquiries\, please contact Nicole from Wyong Regional Chamber of Commerce\, on 4351 1762 or email manager@wyongchamber.com.au \n IMPORTANT: Please read information below to assist you in completing your application. \nBEFORE YOU BEGIN \nPlease note submission dates \nSubmissions open – 23rd October 2018 \nSubmissions close – 11th November 2018 (Midnight) \nPerformers advised – 14th November 2018 \nMusic required – 19th November 2018 \nNAVIGATING (MOVING THROUGH) THE APPLICATION FORM \nApplication forms will be available to collect from Wyong Community Bank © branch of Bendigo Bank – 88 Pacific Hwy\, Wyong NSW 2259 during business hours \nYou can also download an application\, as a PDF from the Wyong Town Centre website \n2018 Carols EOI Performers \nSUBMITTING YOUR APPLICATION \nApplications will be required to be emailed to \nmanager@wyongchamber.com.au \nor delivered to Wyong Community Bank © branch of Bendigo Bank – 88 Pacific Hwy\, Wyong 2259 during business hours \nPlease ensure all applications contain required paperwork & a video of performance \n
URL:https://wyongtowncentre.org.au/event/wyong-community-bank-branch-of-bendigo-bank-carols-by-candlelight-2018/
ORGANIZER;CN="Wyong%20Town%20Centre":MAILTO:manager@wyongchamber.com.au
END:VEVENT
END:VCALENDAR