BEGIN:VCALENDAR
VERSION:2.0
PRODID:-//Wyong Town Centre - ECPv4.6.22.1//NONSGML v1.0//EN
CALSCALE:GREGORIAN
METHOD:PUBLISH
X-WR-CALNAME:Wyong Town Centre
X-ORIGINAL-URL:http://wyongtowncentre.org.au
X-WR-CALDESC:Events for Wyong Town Centre
BEGIN:VEVENT
DTSTART;TZID=UTC+0:20190122T093000
DTEND;TZID=UTC+0:20190122T123000
DTSTAMP:20190228T081624
CREATED:20181203T045839Z
LAST-MODIFIED:20181203T045839Z
UID:626-1548149400-1548160200@wyongtowncentre.org.au
SUMMARY:Free School Holiday Activities
DESCRIPTION:FREE HOLIDAY FUN Flyer \nCHAPMAN BUILDING\nTuesday 22nd January\n9.30 – 12.30 pm\nCnr Alison Rd and Hely St\, Wyong\n(on grass near Glee)\n• Water Games\n• Target Shooting\n(welcome to bring your own water pistols)\n• Waterslides \n
URL:http://wyongtowncentre.org.au/event/free-school-holiday-activities-5/
LOCATION:Chapman Building Wyong\, CNR Hely & Alsion Rd\, Wyong\, NSW\, 2259\, Australia
ORGANIZER;CN="Wyong%20Town%20Centre":MAILTO:manager@wyongchamber.com.au
END:VEVENT
END:VCALENDAR