BEGIN:VCALENDAR
VERSION:2.0
PRODID:-//Wyong Town Centre - ECPv4.6.22.1//NONSGML v1.0//EN
CALSCALE:GREGORIAN
METHOD:PUBLISH
X-WR-CALNAME:Wyong Town Centre
X-ORIGINAL-URL:http://wyongtowncentre.org.au
X-WR-CALDESC:Events for Wyong Town Centre
BEGIN:VEVENT
DTSTART;TZID=UTC+0:20190116T100000
DTEND;TZID=UTC+0:20190116T113000
DTSTAMP:20190228T081326
CREATED:20181203T045100Z
LAST-MODIFIED:20181203T045100Z
UID:620-1547632800-1547638200@wyongtowncentre.org.au
SUMMARY:Free School Holiday Activities
DESCRIPTION:VILLAGE CENTRAL\, WYONG\,\nWednesday 16th January\n10 – 11.30 am\n18-34 Alison Road\, Wyong\n• Face Painting – Balloons – Sand Art \nFREE HOLIDAY FUN Flyer \n
URL:http://wyongtowncentre.org.au/event/free-school-holiday-activities-2/
LOCATION:Village Central Wyong\, 18-34 Alison Rd\, Wyong\, NSW\, 2259\, Australia
ORGANIZER;CN="Wyong%20Town%20Centre":MAILTO:manager@wyongchamber.com.au
END:VEVENT
END:VCALENDAR