BEGIN:VCALENDAR
VERSION:2.0
PRODID:-//Wyong Town Centre - ECPv4.6.22.1//NONSGML v1.0//EN
CALSCALE:GREGORIAN
METHOD:PUBLISH
X-WR-CALNAME:Wyong Town Centre
X-ORIGINAL-URL:http://wyongtowncentre.org.au
X-WR-CALDESC:Events for Wyong Town Centre
BEGIN:VEVENT
DTSTART;TZID=UTC+0:20190114T100000
DTEND;TZID=UTC+0:20190114T113000
DTSTAMP:20190228T081230
CREATED:20181203T044449Z
LAST-MODIFIED:20181203T045159Z
UID:613-1547460000-1547465400@wyongtowncentre.org.au
SUMMARY:Free School Holiday Activities
DESCRIPTION:FREE HOLIDAY FUN Flyer \nYOUTH OASIS CENTRE\nMonday 14th January\n10 – 11.30am\n15-23 Hely Street\, Wyong\n• ‘The Fairy Helps the Pirate find the Treasure’\nInteractive show with dancing\, games & prizes\n• 10am & 11am Show + Photo opportunity\n• Mixed Craft \n
URL:http://wyongtowncentre.org.au/event/free-school-holiday-activities/
LOCATION:Youth Oasis Centre Wyong\, 15-23 Hely ST\, Wyong\, NSW\, 2259\, Australia
ORGANIZER;CN="Wyong%20Town%20Centre":MAILTO:manager@wyongchamber.com.au
END:VEVENT
END:VCALENDAR